OziExplorer Map Data File Version 2.2
U46-34-35-36.jpg
Y:\ozi_map\work_map\2\3&4\u46-34-35-36.jpg
1 ,Map Code,
Pulkovo 1942 (2),, 0.0000, 0.0000,WGS 84
Reserved 1
Reserved 2
Magnetic Variation,,,E
Map Projection,Transverse Mercator,PolyCal,No,AutoCalOnly,No,BSBUseWPX,No
Point01,xy, 195, 199,in, deg, 80, 40,N, 93, 0,E, grid, , , ,N
Point02,xy, 1801, 211,in, deg, 80, 40,N, 94, 30,E, grid, , , ,N
Point03,xy, 3404, 185,in, deg, 80, 40,N, 96, 0,E, grid, , , ,N
Point04,xy, 147, 2398,in, deg, 80, 20,N, 93, 0,E, grid, , , ,N
Point05,xy, 1810, 2410,in, deg, 80, 20,N, 94, 30,E, grid, , , ,N
Point06,xy, 3470, 2382,in, deg, 80, 20,N, 96, 0,E, grid, , , ,N
Point07,xy, 99, 4597,in, deg, 80, 0,N, 93, 0,E, grid, , , ,N
Point08,xy, 1816, 4612,in, deg, 80, 0,N, 94, 30,E, grid, , , ,N
Point09,xy, 3537, 4580,in, deg, 80, 0,N, 96, 0,E, grid, , , ,N
Point10,xy, , ,in, deg, , ,, , ,, grid, , , ,
Point11,xy, , ,in, deg, , ,, , ,, grid, , , ,
Point12,xy, , ,in, deg, , ,, , ,, grid, , , ,
Point13,xy, , ,in, deg, , ,, , ,, grid, , , ,
Point14,xy, , ,in, deg, , ,, , ,, grid, , , ,
Point15,xy, , ,in, deg, , ,, , ,, grid, , , ,
Point16,xy, , ,in, deg, , ,, , ,, grid, , , ,
Point17,xy, , ,in, deg, , ,, , ,, grid, , , ,
Point18,xy, , ,in, deg, , ,, , ,, grid, , , ,
Point19,xy, , ,in, deg, , ,, , ,, grid, , , ,
Point20,xy, , ,in, deg, , ,, , ,, grid, , , ,
Point21,xy, , ,in, deg, , ,, , ,, grid, , , ,
Point22,xy, , ,in, deg, , ,, , ,, grid, , , ,
Point23,xy, , ,in, deg, , ,, , ,, grid, , , ,
Point24,xy, , ,in, deg, , ,, , ,, grid, , , ,
Point25,xy, , ,in, deg, , ,, , ,, grid, , , ,
Point26,xy, , ,in, deg, , ,, , ,, grid, , , ,
Point27,xy, , ,in, deg, , ,, , ,, grid, , , ,
Point28,xy, , ,in, deg, , ,, , ,, grid, , , ,
Point29,xy, , ,in, deg, , ,, , ,, grid, , , ,
Point30,xy, , ,in, deg, , ,, , ,, grid, , , ,
Projection Setup, 0.000000000, 93.000000000, 1.000000000, 500000.00, 0.00,,,,,
Map Feature = MF ; Map Comment = MC These follow if they exist
Track File = TF These follow if they exist
Moving Map Parameters = MM? These follow if they exist
MM0,Yes
MMPNUM,4
MMPXY,1,193,196
MMPXY,2,3407,182
MMPXY,3,3537,4583
MMPXY,4,98,4598
MMPLL,1, 92.997928, 80.667086
MMPLL,2, 96.001911, 80.666896
MMPLL,3, 96.000962, 79.999638
MMPLL,4, 92.999152, 79.999813
MM1B,16.916505
Other Grid Setup
GRGRID,Yes,4 Km,No,16711680,255,4 Km,0,16777215,8,1,Yes,No,No,x
MOP,Map Open Position,0,0
IWH,Map Image Width/Height,3643,4705
